BEGIN:VCALENDAR
VERSION:2.0
PRODID:-//OMAS GEGEN RECHTS Dortmund-West - ECPv6.15.20//NONSGML v1.0//EN
CALSCALE:GREGORIAN
METHOD:PUBLISH
X-ORIGINAL-URL:https://omasgegenrechtsdortmundwest.de
X-WR-CALDESC:Veranstaltungen für OMAS GEGEN RECHTS Dortmund-West
REFRESH-INTERVAL;VALUE=DURATION:PT1H
X-Robots-Tag:noindex
X-PUBLISHED-TTL:PT1H
BEGIN:VTIMEZONE
TZID:UTC
BEGIN:STANDARD
TZOFFSETFROM:+0000
TZOFFSETTO:+0000
TZNAME:UTC
DTSTART:20250101T000000
END:STANDARD
END:VTIMEZONE
BEGIN:VEVENT
DTSTART;TZID=UTC:20260314T140000
DTEND;TZID=UTC:20260314T150000
DTSTAMP:20260420T165502
CREATED:20260305T094433Z
LAST-MODIFIED:20260305T132054Z
UID:798-1773496800-1773500400@omasgegenrechtsdortmundwest.de
SUMMARY:PRÜF-Demo 14.3.2026
DESCRIPTION:Immer am zweiten Samstag des Monats gibt es nun auch vor dem Landtag NRW eine Demonstration für die Prüfung aller als rechtsextrem oder rechtsextremer Verdachtsfall eingestuften Parteien. Die OMAS GEGEN RECHTS Dortmund-West sind dabei.
URL:https://omasgegenrechtsdortmundwest.de/event/pruef-demo-14-3-2026/
LOCATION:Vor dem Landtag Düsseldorf\, Platz des Landtags 1\, Düsseldorf\, 40221\, Germany
CATEGORIES:Bündnis-Freund*innen
END:VEVENT
END:VCALENDAR