BEGIN:VCALENDAR
VERSION:2.0
PRODID:-//OMAS GEGEN RECHTS Dortmund-West - ECPv6.15.20//NONSGML v1.0//EN
CALSCALE:GREGORIAN
METHOD:PUBLISH
X-WR-CALNAME:OMAS GEGEN RECHTS Dortmund-West
X-ORIGINAL-URL:https://omasgegenrechtsdortmundwest.de
X-WR-CALDESC:Veranstaltungen für OMAS GEGEN RECHTS Dortmund-West
REFRESH-INTERVAL;VALUE=DURATION:PT1H
X-Robots-Tag:noindex
X-PUBLISHED-TTL:PT1H
BEGIN:VTIMEZONE
TZID:UTC
BEGIN:STANDARD
TZOFFSETFROM:+0000
TZOFFSETTO:+0000
TZNAME:UTC
DTSTART:20250101T000000
END:STANDARD
END:VTIMEZONE
BEGIN:VEVENT
DTSTART;TZID=UTC:20260214T140000
DTEND;TZID=UTC:20260214T150000
DTSTAMP:20260422T104710
CREATED:20260116T092646Z
LAST-MODIFIED:20260204T075040Z
UID:164-1771077600-1771081200@omasgegenrechtsdortmundwest.de
SUMMARY:PRÜF-Demo Düsseldorf
DESCRIPTION:Immer am zweiten Samstag des Monats gibt es nun auch vor dem Landtag NRW eine Demonstration für die Prüfung aller als rechtsextrem oder rechtsextremer Verdachtsfall eingestuften Parteien. Die OMAS GEGEN RECHTS Dortmund-West sind dabei.
URL:https://omasgegenrechtsdortmundwest.de/event/pruef-demo-duesseldorf/
LOCATION:Vor dem Landtag Düsseldorf\, Platz des Landtags 1\, Düsseldorf\, 40221\, Germany
CATEGORIES:Bündnis-Freund*innen
END:VEVENT
END:VCALENDAR