BEGIN:VCALENDAR
VERSION:2.0
PRODID:-//OMAS GEGEN RECHTS Dortmund-West - ECPv6.15.20//NONSGML v1.0//EN
CALSCALE:GREGORIAN
METHOD:PUBLISH
X-WR-CALNAME:OMAS GEGEN RECHTS Dortmund-West
X-ORIGINAL-URL:https://omasgegenrechtsdortmundwest.de
X-WR-CALDESC:Veranstaltungen für OMAS GEGEN RECHTS Dortmund-West
REFRESH-INTERVAL;VALUE=DURATION:PT1H
X-Robots-Tag:noindex
X-PUBLISHED-TTL:PT1H
BEGIN:VTIMEZONE
TZID:UTC
BEGIN:STANDARD
TZOFFSETFROM:+0000
TZOFFSETTO:+0000
TZNAME:UTC
DTSTART:20250101T000000
END:STANDARD
END:VTIMEZONE
BEGIN:VEVENT
DTSTART;TZID=UTC:20260626T110000
DTEND;TZID=UTC:20260626T210000
DTSTAMP:20260420T162545
CREATED:20260402T101001Z
LAST-MODIFIED:20260402T103020Z
UID:977-1782471600-1782507600@omasgegenrechtsdortmundwest.de
SUMMARY:Demokratie-Festival „Vielfalt lieben\, Dorstfeld leben“
DESCRIPTION:Am Freitag\, dem 26.06.2026 von 11:00 bis circa 21:00 Uhr findet das Demokratie-Festival „Vielfalt lieben\, Dorstfeld leben“ auf dem Wilhelmplatz in Dortmund-Dorstfeld statt. Beim „Markt der Vielfalt“ von 11- 17 Uhr Uhr findet ihr uns.
URL:https://omasgegenrechtsdortmundwest.de/event/demokratie-festival-vielfalt-lieben-dorstfeld-leben/
LOCATION:Wilhelmplatz Dortmund\, Wilhelmplatz Dortmund\, Nordrhein-Westfalen\, 44149\, Germany
CATEGORIES:Bündnis-Freund*innen
END:VEVENT
END:VCALENDAR