BEGIN:VCALENDAR
VERSION:2.0
PRODID:-//OMAS GEGEN RECHTS Dortmund-West - ECPv6.15.20//NONSGML v1.0//EN
CALSCALE:GREGORIAN
METHOD:PUBLISH
X-ORIGINAL-URL:https://omasgegenrechtsdortmundwest.de
X-WR-CALDESC:Veranstaltungen für OMAS GEGEN RECHTS Dortmund-West
REFRESH-INTERVAL;VALUE=DURATION:PT1H
X-Robots-Tag:noindex
X-PUBLISHED-TTL:PT1H
BEGIN:VTIMEZONE
TZID:UTC
BEGIN:STANDARD
TZOFFSETFROM:+0000
TZOFFSETTO:+0000
TZNAME:UTC
DTSTART:20250101T000000
END:STANDARD
END:VTIMEZONE
BEGIN:VEVENT
DTSTART;TZID=UTC:20260424T180000
DTEND;TZID=UTC:20260424T180000
DTSTAMP:20260420T062901
CREATED:20260203T101103Z
LAST-MODIFIED:20260305T134605Z
UID:685-1777053600-1777053600@omasgegenrechtsdortmundwest.de
SUMMARY:Schluss mit den Nazitreffen in Dortmund
DESCRIPTION:Ein Bündnis demokratischer Kräfte stellt sich dem „Offenen Abend“  der Neonazis von „Die Heimat“ entgegen. Jeden letzten Freitag im Monat 18:30 am Wilhelmplatz. Wir OMAS GEGEN RECHTS gehören zu den Erstunterzeichnenden der Protesterklärung und werden nicht rasten\, unsere Stimme zu erheben! \nHier entlang zum Plakat: ogrdw_2026_04_24_plakat_a1-3 \nHier entlang zum Flyer für den 24.04.2026: OGRDW_20260424_flyer.
URL:https://omasgegenrechtsdortmundwest.de/event/schluss-mit-den-nazitreffen-in-dortmund/
LOCATION:Wilhelmplatz Dortmund\, Wilhelmplatz Dortmund\, Nordrhein-Westfalen\, 44149\, Germany
CATEGORIES:OMAS GEGEN RECHTS Dortmund-West
END:VEVENT
END:VCALENDAR