BEGIN:VCALENDAR
VERSION:2.0
PRODID:-//OMAS GEGEN RECHTS Dortmund-West - ECPv6.15.20//NONSGML v1.0//EN
CALSCALE:GREGORIAN
METHOD:PUBLISH
X-WR-CALNAME:OMAS GEGEN RECHTS Dortmund-West
X-ORIGINAL-URL:https://omasgegenrechtsdortmundwest.de
X-WR-CALDESC:Veranstaltungen für OMAS GEGEN RECHTS Dortmund-West
REFRESH-INTERVAL;VALUE=DURATION:PT1H
X-Robots-Tag:noindex
X-PUBLISHED-TTL:PT1H
BEGIN:VTIMEZONE
TZID:UTC
BEGIN:STANDARD
TZOFFSETFROM:+0000
TZOFFSETTO:+0000
TZNAME:UTC
DTSTART:20250101T000000
END:STANDARD
END:VTIMEZONE
BEGIN:VEVENT
DTSTART;TZID=UTC:20260319T153000
DTEND;TZID=UTC:20260319T170000
DTSTAMP:20260420T095441
CREATED:20260129T093600Z
LAST-MODIFIED:20260129T093920Z
UID:634-1773934200-1773939600@omasgegenrechtsdortmundwest.de
SUMMARY:Kaffeeklatsch im "Meilenstein" Dortmund
DESCRIPTION:Am 19.03.2026 15:30 Uhr sind die Martener zu Kaffee\, Tee\, Kuchen im „Meilenstein“ zu einem offenem Nachbarschaftsgespräch eingeladen. Ausgerichtet von den OMAS GEGEN RECHTS Dortmund-West kann man sich hier kennenlernen\, miteinander klönen\, philosophieren oder auch einfach nur mal rauskommen aus den eigenen vier Wänden und frische Waffeln genießen. Das Angebot findet zeitweise parallel zur Offenen Sprechstunde der Quartierskoordination statt und ist ein regelmäßiges monatliches Angebot immer am dritten Donnerstag.
URL:https://omasgegenrechtsdortmundwest.de/event/634/
LOCATION:„Meilenstein“ Marten\, In der Meile 2\, Dortmund\, 44379\, Germany
CATEGORIES:OMAS GEGEN RECHTS Dortmund-West
ORGANIZER;CN="OMAS GEGEN RECHTS Dortmund-West":MAILTO:omasgegenrechtsdortmundwest@gmx.de
END:VEVENT
END:VCALENDAR